BEGIN:VCALENDAR
VERSION:2.0
PRODID:-//www.thearnoldhouse.org - ECPv6.15.18//NONSGML v1.0//EN
CALSCALE:GREGORIAN
METHOD:PUBLISH
X-ORIGINAL-URL:https://www.thearnoldhouse.org
X-WR-CALDESC:Events for www.thearnoldhouse.org
REFRESH-INTERVAL;VALUE=DURATION:PT1H
X-Robots-Tag:noindex
X-PUBLISHED-TTL:PT1H
BEGIN:VTIMEZONE
TZID:UTC
BEGIN:STANDARD
TZOFFSETFROM:+0000
TZOFFSETTO:+0000
TZNAME:UTC
DTSTART:20150101T000000
END:STANDARD
END:VTIMEZONE
BEGIN:VEVENT
DTSTART;TZID=UTC:20170812T140000
DTEND;TZID=UTC:20170812T180000
DTSTAMP:20260423T150850
CREATED:20170805T152526Z
LAST-MODIFIED:20170805T152526Z
UID:3901-1502546400-1502560800@www.thearnoldhouse.org
SUMMARY:The Arnold House Mobile Shower Bus Fundraiser
DESCRIPTION:
URL:https://www.thearnoldhouse.org/event/arnold-house-mobile-shower-bus-fundraiser/
END:VEVENT
BEGIN:VEVENT
DTSTART;TZID=UTC:20161228T170000
DTEND;TZID=UTC:20161228T183000
DTSTAMP:20260423T150850
CREATED:20161009T231147Z
LAST-MODIFIED:20161103T170933Z
UID:3745-1482944400-1482949800@www.thearnoldhouse.org
SUMMARY:Ladles of Love Soup Kitchen
DESCRIPTION:
URL:https://www.thearnoldhouse.org/event/ladles-love-soup-kitchen-2016-12-28/
LOCATION:Wednesday Soup Kitchen\, 3385 Metropolitan Church Rd\, Indian Head\, MD\, 20640\, United States
CATEGORIES:Soup Kitchen
ATTACH;FMTTYPE=image/png:https://www.thearnoldhouse.org/wp-content/uploads/heart-1.png
END:VEVENT
BEGIN:VEVENT
DTSTART;TZID=UTC:20161221T170000
DTEND;TZID=UTC:20161221T183000
DTSTAMP:20260423T150850
CREATED:20161009T231147Z
LAST-MODIFIED:20161103T170926Z
UID:3744-1482339600-1482345000@www.thearnoldhouse.org
SUMMARY:Ladles of Love Soup Kitchen
DESCRIPTION:
URL:https://www.thearnoldhouse.org/event/ladles-love-soup-kitchen-2016-12-21/
LOCATION:Wednesday Soup Kitchen\, 3385 Metropolitan Church Rd\, Indian Head\, MD\, 20640\, United States
CATEGORIES:Soup Kitchen
ATTACH;FMTTYPE=image/png:https://www.thearnoldhouse.org/wp-content/uploads/heart-1.png
END:VEVENT
BEGIN:VEVENT
DTSTART;TZID=UTC:20161214T170000
DTEND;TZID=UTC:20161214T183000
DTSTAMP:20260423T150850
CREATED:20161009T231147Z
LAST-MODIFIED:20161103T170926Z
UID:3743-1481734800-1481740200@www.thearnoldhouse.org
SUMMARY:Ladles of Love Soup Kitchen
DESCRIPTION:
URL:https://www.thearnoldhouse.org/event/ladles-love-soup-kitchen-2016-12-14/
LOCATION:Wednesday Soup Kitchen\, 3385 Metropolitan Church Rd\, Indian Head\, MD\, 20640\, United States
CATEGORIES:Soup Kitchen
ATTACH;FMTTYPE=image/png:https://www.thearnoldhouse.org/wp-content/uploads/heart-1.png
END:VEVENT
BEGIN:VEVENT
DTSTART;TZID=UTC:20161207T170000
DTEND;TZID=UTC:20161207T183000
DTSTAMP:20260423T150850
CREATED:20161009T231147Z
LAST-MODIFIED:20161103T170925Z
UID:3742-1481130000-1481135400@www.thearnoldhouse.org
SUMMARY:Ladles of Love Soup Kitchen
DESCRIPTION:
URL:https://www.thearnoldhouse.org/event/ladles-love-soup-kitchen-2016-12-07/
LOCATION:Wednesday Soup Kitchen\, 3385 Metropolitan Church Rd\, Indian Head\, MD\, 20640\, United States
CATEGORIES:Soup Kitchen
ATTACH;FMTTYPE=image/png:https://www.thearnoldhouse.org/wp-content/uploads/heart-1.png
END:VEVENT
BEGIN:VEVENT
DTSTART;TZID=UTC:20161130T170000
DTEND;TZID=UTC:20161130T183000
DTSTAMP:20260423T150850
CREATED:20161009T231147Z
LAST-MODIFIED:20161103T170925Z
UID:3741-1480525200-1480530600@www.thearnoldhouse.org
SUMMARY:Ladles of Love Soup Kitchen
DESCRIPTION:
URL:https://www.thearnoldhouse.org/event/ladles-love-soup-kitchen-2016-11-30/
LOCATION:Wednesday Soup Kitchen\, 3385 Metropolitan Church Rd\, Indian Head\, MD\, 20640\, United States
CATEGORIES:Soup Kitchen
ATTACH;FMTTYPE=image/png:https://www.thearnoldhouse.org/wp-content/uploads/heart-1.png
END:VEVENT
BEGIN:VEVENT
DTSTART;TZID=UTC:20161123T170000
DTEND;TZID=UTC:20161123T183000
DTSTAMP:20260423T150850
CREATED:20161009T231147Z
LAST-MODIFIED:20161103T170925Z
UID:3740-1479920400-1479925800@www.thearnoldhouse.org
SUMMARY:Ladles of Love Soup Kitchen
DESCRIPTION:
URL:https://www.thearnoldhouse.org/event/ladles-love-soup-kitchen-2016-11-23/
LOCATION:Wednesday Soup Kitchen\, 3385 Metropolitan Church Rd\, Indian Head\, MD\, 20640\, United States
CATEGORIES:Soup Kitchen
ATTACH;FMTTYPE=image/png:https://www.thearnoldhouse.org/wp-content/uploads/heart-1.png
END:VEVENT
BEGIN:VEVENT
DTSTART;TZID=UTC:20161116T170000
DTEND;TZID=UTC:20161116T183000
DTSTAMP:20260423T150850
CREATED:20161009T231147Z
LAST-MODIFIED:20161103T170925Z
UID:3739-1479315600-1479321000@www.thearnoldhouse.org
SUMMARY:Ladles of Love Soup Kitchen
DESCRIPTION:
URL:https://www.thearnoldhouse.org/event/ladles-love-soup-kitchen-2016-11-16/
LOCATION:Wednesday Soup Kitchen\, 3385 Metropolitan Church Rd\, Indian Head\, MD\, 20640\, United States
CATEGORIES:Soup Kitchen
ATTACH;FMTTYPE=image/png:https://www.thearnoldhouse.org/wp-content/uploads/heart-1.png
END:VEVENT
BEGIN:VEVENT
DTSTART;TZID=UTC:20161109T170000
DTEND;TZID=UTC:20161109T183000
DTSTAMP:20260423T150850
CREATED:20161009T231147Z
LAST-MODIFIED:20161103T170924Z
UID:3738-1478710800-1478716200@www.thearnoldhouse.org
SUMMARY:Ladles of Love Soup Kitchen
DESCRIPTION:
URL:https://www.thearnoldhouse.org/event/ladles-love-soup-kitchen-2016-11-09/
LOCATION:Wednesday Soup Kitchen\, 3385 Metropolitan Church Rd\, Indian Head\, MD\, 20640\, United States
CATEGORIES:Soup Kitchen
ATTACH;FMTTYPE=image/png:https://www.thearnoldhouse.org/wp-content/uploads/heart-1.png
END:VEVENT
BEGIN:VEVENT
DTSTART;TZID=UTC:20161105T180000
DTEND;TZID=UTC:20161105T200000
DTSTAMP:20260423T150850
CREATED:20161009T235139Z
LAST-MODIFIED:20161010T012758Z
UID:3750-1478368800-1478376000@www.thearnoldhouse.org
SUMMARY:Arnold House Grand Opening Fundraiser
DESCRIPTION:We are moving into our new facility and want you to join us in the Grand Opening celebration.\nRev. George Hackey will conduct the blessing and Dr. Edith Patterson will cut the ribbon.\nFinger foods and refreshments will be served.
URL:https://www.thearnoldhouse.org/event/arnold-house-grand-opening-fundraiser/
LOCATION:The Arnold House\, 3444 Rockefeller CT\, Waldorf\, MD\, 20602\, United States
END:VEVENT
BEGIN:VEVENT
DTSTART;TZID=UTC:20161102T170000
DTEND;TZID=UTC:20161102T183000
DTSTAMP:20260423T150850
CREATED:20161009T231147Z
LAST-MODIFIED:20161103T170924Z
UID:3737-1478106000-1478111400@www.thearnoldhouse.org
SUMMARY:Ladles of Love Soup Kitchen
DESCRIPTION:
URL:https://www.thearnoldhouse.org/event/ladles-love-soup-kitchen-2016-11-02/
LOCATION:Wednesday Soup Kitchen\, 3385 Metropolitan Church Rd\, Indian Head\, MD\, 20640\, United States
CATEGORIES:Soup Kitchen
ATTACH;FMTTYPE=image/png:https://www.thearnoldhouse.org/wp-content/uploads/heart-1.png
END:VEVENT
BEGIN:VEVENT
DTSTART;VALUE=DATE:20161101
DTEND;VALUE=DATE:20161116
DTSTAMP:20260423T150850
CREATED:20161009T234413Z
LAST-MODIFIED:20161009T234542Z
UID:3746-1477958400-1479254399@www.thearnoldhouse.org
SUMMARY:Thanksgiving Food Baskets
DESCRIPTION:We’re looking for sponsors to help some of our 22 families in need. Please help as many as you can!\nIt’s easy… All it takes is $65 to feed a family of 5.\nPlease remember\, many of these families don’t have water nor electricity in there homes. Many don’t even live in what we would call homes.\nThis is why it’s so important not to forget these families during this time of year. It’s the time to embrace those who might need a little extra help!\nWe are all so blessed!\nLets pay that blessing forward and give to those who need.\nThe baskets will be filled with all the trimmings needed to feed a family of 5 on Thanksgiving Day.\nWe’ll do the shopping\, assembly and delivery to our families in need.\nPayPal is always available. Please write TGB in comment section. Thank you…\nhttps://www.paypal.me/TheArnoldHouse
URL:https://www.thearnoldhouse.org/event/thanksgiving-food-baskets/
LOCATION:The Arnold House\, 3444 Rockefeller CT\, Waldorf\, MD\, 20602\, United States
END:VEVENT
BEGIN:VEVENT
DTSTART;TZID=UTC:20161026T170000
DTEND;TZID=UTC:20161026T183000
DTSTAMP:20260423T150850
CREATED:20161009T231147Z
LAST-MODIFIED:20161103T170924Z
UID:3736-1477501200-1477506600@www.thearnoldhouse.org
SUMMARY:Ladles of Love Soup Kitchen
DESCRIPTION:
URL:https://www.thearnoldhouse.org/event/ladles-love-soup-kitchen-2016-10-26/
LOCATION:Wednesday Soup Kitchen\, 3385 Metropolitan Church Rd\, Indian Head\, MD\, 20640\, United States
CATEGORIES:Soup Kitchen
ATTACH;FMTTYPE=image/png:https://www.thearnoldhouse.org/wp-content/uploads/heart-1.png
END:VEVENT
BEGIN:VEVENT
DTSTART;TZID=UTC:20161019T170000
DTEND;TZID=UTC:20161019T183000
DTSTAMP:20260423T150850
CREATED:20161009T231147Z
LAST-MODIFIED:20161103T170924Z
UID:3735-1476896400-1476901800@www.thearnoldhouse.org
SUMMARY:Ladles of Love Soup Kitchen
DESCRIPTION:
URL:https://www.thearnoldhouse.org/event/ladles-love-soup-kitchen-2016-10-19/
LOCATION:Wednesday Soup Kitchen\, 3385 Metropolitan Church Rd\, Indian Head\, MD\, 20640\, United States
CATEGORIES:Soup Kitchen
ATTACH;FMTTYPE=image/png:https://www.thearnoldhouse.org/wp-content/uploads/heart-1.png
END:VEVENT
BEGIN:VEVENT
DTSTART;TZID=UTC:20161012T170000
DTEND;TZID=UTC:20161012T183000
DTSTAMP:20260423T150850
CREATED:20161009T231147Z
LAST-MODIFIED:20161103T170923Z
UID:3722-1476291600-1476297000@www.thearnoldhouse.org
SUMMARY:Ladles of Love Soup Kitchen
DESCRIPTION:
URL:https://www.thearnoldhouse.org/event/ladles-love-soup-kitchen/
LOCATION:Wednesday Soup Kitchen\, 3385 Metropolitan Church Rd\, Indian Head\, MD\, 20640\, United States
CATEGORIES:Soup Kitchen
ATTACH;FMTTYPE=image/png:https://www.thearnoldhouse.org/wp-content/uploads/heart-1.png
END:VEVENT
BEGIN:VEVENT
DTSTART;TZID=UTC:20160928T170000
DTEND;TZID=UTC:20160928T190000
DTSTAMP:20260423T150850
CREATED:20160922T162943Z
LAST-MODIFIED:20160922T180844Z
UID:3539-1475082000-1475089200@www.thearnoldhouse.org
SUMMARY:Wednesday Night Soup Kitchen
DESCRIPTION:
URL:https://www.thearnoldhouse.org/event/wednesday-night-soup-kitchen/
LOCATION:Wednesday Soup Kitchen\, 3385 Metropolitan Church Rd\, Indian Head\, MD\, 20640\, United States
END:VEVENT
BEGIN:VEVENT
DTSTART;TZID=UTC:20160924T100000
DTEND;TZID=UTC:20160924T120000
DTSTAMP:20260423T150850
CREATED:20160922T161008Z
LAST-MODIFIED:20160922T161008Z
UID:3531-1474711200-1474718400@www.thearnoldhouse.org
SUMMARY:Building Blessing Bags
DESCRIPTION:
URL:https://www.thearnoldhouse.org/event/building-blessing-bags/
LOCATION:Waldorf Elks Lodge #2421\, 2210 Old Washington Rd\, Waldorf\, MD\, 20601\, United States
END:VEVENT
BEGIN:VEVENT
DTSTART;VALUE=DATE:20160310
DTEND;VALUE=DATE:20160313
DTSTAMP:20260423T150850
CREATED:20141023T030204Z
LAST-MODIFIED:20141023T030204Z
UID:831-1457568000-1457827199@www.thearnoldhouse.org
SUMMARY:Watch The Northern Lights
DESCRIPTION:Pharetra debitis minus potenti sollicitudin porro praesent reiciendis\, iusto hymenaeos quidem nobis\, ad habitant bibendum\, ratione nihil auctor\, velit\, occaecat reiciendis senectus\, maiores nemo\, hendrerit leo.
URL:https://www.thearnoldhouse.org/event/watch-the-northern-lights-2016-03-10/
LOCATION:North Avenue Beach\, W LaSalle Dr\, Chicago\, IL\, 60614\, United States
CATEGORIES:Outings
END:VEVENT
BEGIN:VEVENT
DTSTART;TZID=UTC:20160307T110000
DTEND;TZID=UTC:20160307T160000
DTSTAMP:20260423T150850
CREATED:20141023T030115Z
LAST-MODIFIED:20141023T030115Z
UID:823-1457348400-1457366400@www.thearnoldhouse.org
SUMMARY:Help Cafe Noir Fundraiser
DESCRIPTION:Pharetra debitis minus potenti sollicitudin porro praesent reiciendis\, iusto hymenaeos quidem nobis\, ad habitant bibendum\, ratione nihil auctor\, velit\, occaecat reiciendis senectus\, maiores nemo\, hendrerit leo.
URL:https://www.thearnoldhouse.org/event/help-cafe-noir-fundraiser-2016-03-07/
LOCATION:Cafe Noir\, 5046 S Greenwood Ave\, Chicago\, IL\, 60615\, United States
CATEGORIES:Fundraiser
END:VEVENT
END:VCALENDAR